BEGIN:VCALENDAR
VERSION:2.0
PRODID:-//The Arlington of Naples - ECPv6.15.11//NONSGML v1.0//EN
CALSCALE:GREGORIAN
METHOD:PUBLISH
X-WR-CALNAME:The Arlington of Naples
X-ORIGINAL-URL:https://thearlingtonofnaples.com
X-WR-CALDESC:Events for The Arlington of Naples
REFRESH-INTERVAL;VALUE=DURATION:PT1H
X-Robots-Tag:noindex
X-PUBLISHED-TTL:PT1H
BEGIN:VTIMEZONE
TZID:America/New_York
BEGIN:DAYLIGHT
TZOFFSETFROM:-0500
TZOFFSETTO:-0400
TZNAME:EDT
DTSTART:20250309T070000
END:DAYLIGHT
BEGIN:STANDARD
TZOFFSETFROM:-0400
TZOFFSETTO:-0500
TZNAME:EST
DTSTART:20251102T060000
END:STANDARD
BEGIN:DAYLIGHT
TZOFFSETFROM:-0500
TZOFFSETTO:-0400
TZNAME:EDT
DTSTART:20260308T070000
END:DAYLIGHT
BEGIN:STANDARD
TZOFFSETFROM:-0400
TZOFFSETTO:-0500
TZNAME:EST
DTSTART:20261101T060000
END:STANDARD
BEGIN:DAYLIGHT
TZOFFSETFROM:-0500
TZOFFSETTO:-0400
TZNAME:EDT
DTSTART:20270314T070000
END:DAYLIGHT
BEGIN:STANDARD
TZOFFSETFROM:-0400
TZOFFSETTO:-0500
TZNAME:EST
DTSTART:20271107T060000
END:STANDARD
END:VTIMEZONE
BEGIN:VEVENT
DTSTART;TZID=America/New_York:20260422T110000
DTEND;TZID=America/New_York:20260422T110000
DTSTAMP:20260420T074746
CREATED:20260303T151748Z
LAST-MODIFIED:20260310T182451Z
UID:6060-1776855600-1776855600@thearlingtonofnaples.com
SUMMARY:Discover The Simplicity of Life Plan Communities
DESCRIPTION:Join us for lunch and learn how to cut through the complexity of retirement planning. While savoring a delicious meal crafted by our talented Executive Chef\, let Robbi Cleveland\, our Director of Marketing\, and Andrea Sieradzki\, our Director of Sales\, elevate your understanding of senior living options. \nThis session will cover: \n\nThe benefits and flexibility of our Type B Modified LifeCare contract\nLong-term financial advantages the protect your assets and future\nHow our adaptable approach accommodates your evolving lifestyle needs\nA personalized Q&A session to provide clarity on your specific questions\n\nRSVP today!
URL:https://thearlingtonofnaples.com/event/discover-the-simplicity-of-life-plan-communities/
LOCATION:The Arlington\, 7900 Arlington Circle\, Naples\, FL\, 34113\, United States
CATEGORIES:Public Event
ATTACH;FMTTYPE=image/webp:https://thearlingtonofnaples.com/wp-content/uploads/2026/03/simplify-search.webp
END:VEVENT
BEGIN:VEVENT
DTSTART;TZID=America/New_York:20260428T110000
DTEND;TZID=America/New_York:20260428T110000
DTSTAMP:20260420T074746
CREATED:20260407T154349Z
LAST-MODIFIED:20260415T144407Z
UID:6150-1777374000-1777374000@thearlingtonofnaples.com
SUMMARY:Elevated Island Table at The Arlington of Naples
DESCRIPTION:Take your place at our table. Experience an elevated resort-inspired lifestyle just minutes from Marco Island. \nWe’re hosting a select gathering of Marco Island neighbors for an intimate\, multi-course meal at The Arlington of Naples. Our Executive Chef has thoughtfully curated each course and will personally guide the event – introducing the inspiration behind the menu. Live entertainment will set the tone\, and you’ll be joined by residents who already call The Arlington home – offering a genuine glimpse into the lifestyle that awaits. \nOur Life Plan Community offers the same quality of living you’ve come to expect\, surrounded by neighbors who share your love of southwest Florida – with the added peace of mind that comes from knowing your future is secure. \nBy invitation only. Complimentary valet parking available. \nReserve your seat today.
URL:https://thearlingtonofnaples.com/event/elevated-island-table-at-the-arlington-of-naples/
LOCATION:The Arlington\, 7900 Arlington Circle\, Naples\, FL\, 34113\, United States
CATEGORIES:Hidden Event
ATTACH;FMTTYPE=image/jpeg:https://thearlingtonofnaples.com/wp-content/uploads/2026/04/ARLN-22121-AprilMarcoIsland-_Web-scaled.jpg
END:VEVENT
BEGIN:VEVENT
DTSTART;TZID=America/New_York:20260505T110000
DTEND;TZID=America/New_York:20260505T110000
DTSTAMP:20260420T074746
CREATED:20260402T142014Z
LAST-MODIFIED:20260408T195022Z
UID:6135-1777978800-1777978800@thearlingtonofnaples.com
SUMMARY:Solo Retirement Roadmap
DESCRIPTION:Aging Solo\, Living Fully \nJoin us for a candid luncheon conversation about the social\, medical\, and financial decisions that determine how well – and how confidently – you’ll live in the years ahead. Two experts will give guidance on planning for success. Then you’ll see exactly how The Arlington can address all three. \nHear from: \nCarol Marak – Aging Expert & National Speaker \nAs a nationally recognized authority on aging alone\, Carol will guide you through an honest\, self-assessment across a variety of domains – helping you plan your future. \nElaine Lawrence\, RN – Health and Wellness Navigator at The Arlington \nElaine has 30+ years in cardiac care\, home health\, and geriatrics. She’ll show you how The Arlington’s on-site care\, wellness programs\, and support community directly address the gaps Carol helps you uncover. \nRSVP today to reserve your seat! \nA gourmet lunch and valet parking will be provided.
URL:https://thearlingtonofnaples.com/event/solo-retirement-roadmap/
LOCATION:The Arlington\, 7900 Arlington Circle\, Naples\, FL\, 34113\, United States
CATEGORIES:Public Event
ATTACH;FMTTYPE=image/jpeg:https://thearlingtonofnaples.com/wp-content/uploads/2026/04/ARLNCarolMarakWebImage.jpg
END:VEVENT
BEGIN:VEVENT
DTSTART;TZID=America/New_York:20260521T160000
DTEND;TZID=America/New_York:20260521T160000
DTSTAMP:20260420T074746
CREATED:20260407T142725Z
LAST-MODIFIED:20260414T142751Z
UID:6147-1779379200-1779379200@thearlingtonofnaples.com
SUMMARY:Health Matters: Overcoming Arthritis
DESCRIPTION:Ending Arthritic Knee Pain with Frederick Buechel Jr.\, M.D.\, Orthopedic Surgeon \nKnee pain doesn’t have to be the new normal – and relief may be closer than you think. Join us for an eye-opening presentation with Dr. Frederick Buechel Jr.\, an orthopedic surgeon with Physicians Regional Medical Group specializing in robotic-assisted partial and total knee replacement surgery. \nYou’ll Learn: \n\nWhat’s really behind arthritic knee pain\nHow robotic-assisted knee replacement can deliver greater precision and faster recovery\nThe differences between partial vs. total knee replacement – and which option may be right for you\n\nOur HEALTH MATTERS series is designed to empower older adults\, families\, and healthcare partners with expert insights that support aging with confidence. \nRSVP today!
URL:https://thearlingtonofnaples.com/event/health-matters-overcoming-arthritis/
LOCATION:The Arlington\, 7900 Arlington Circle\, Naples\, FL\, 34113\, United States
CATEGORIES:Public Event
ATTACH;FMTTYPE=image/jpeg:https://thearlingtonofnaples.com/wp-content/uploads/2026/04/ARLN-H22216-BDMayHealthMatters-Web_SM-scaled.jpg
END:VEVENT
END:VCALENDAR